BEGIN:VCALENDAR
VERSION:2.0
PRODID:-//Five Points Center For The Visual Arts - ECPv6.15.20//NONSGML v1.0//EN
CALSCALE:GREGORIAN
METHOD:PUBLISH
X-WR-CALNAME:Five Points Center For The Visual Arts
X-ORIGINAL-URL:https://fivepointsarts.org
X-WR-CALDESC:Events for Five Points Center For The Visual Arts
REFRESH-INTERVAL;VALUE=DURATION:PT1H
X-Robots-Tag:noindex
X-PUBLISHED-TTL:PT1H
BEGIN:VTIMEZONE
TZID:America/New_York
BEGIN:DAYLIGHT
TZOFFSETFROM:-0500
TZOFFSETTO:-0400
TZNAME:EDT
DTSTART:20240310T070000
END:DAYLIGHT
BEGIN:STANDARD
TZOFFSETFROM:-0400
TZOFFSETTO:-0500
TZNAME:EST
DTSTART:20241103T060000
END:STANDARD
BEGIN:DAYLIGHT
TZOFFSETFROM:-0500
TZOFFSETTO:-0400
TZNAME:EDT
DTSTART:20250309T070000
END:DAYLIGHT
BEGIN:STANDARD
TZOFFSETFROM:-0400
TZOFFSETTO:-0500
TZNAME:EST
DTSTART:20251102T060000
END:STANDARD
BEGIN:DAYLIGHT
TZOFFSETFROM:-0500
TZOFFSETTO:-0400
TZNAME:EDT
DTSTART:20260308T070000
END:DAYLIGHT
BEGIN:STANDARD
TZOFFSETFROM:-0400
TZOFFSETTO:-0500
TZNAME:EST
DTSTART:20261101T060000
END:STANDARD
END:VTIMEZONE
BEGIN:VEVENT
DTSTART;TZID=America/New_York:20250814T130000
DTEND;TZID=America/New_York:20250814T163000
DTSTAMP:20260419T085859
CREATED:20250328T192844Z
LAST-MODIFIED:20250605T144558Z
UID:34758-1755176400-1755189000@fivepointsarts.org
SUMMARY:2025 Summer Teen Art Labs
DESCRIPTION:Instructors: Jill Van Slooten\, Caleb Portfolio\, Kimberly Jo & Christine Mitchell \nDates: Mondays – Thursdays\, July 7 through August 14\, 2025 \nTime: 1:00 – 4:30 PM \nAges: 13 – 17 \nMembers & Non-Members: FREE \nThe 2025 Summer Teen Art Labs have arrived! Designed to hone your artmaking\, expand your creative problem-solving skills and build a strong portfolio\, this fully funded program offers comprehensive workshops in Ceramics\, Printmaking\, Alternative Photography\, and Painting & Drawing. \nMORE INFO & REGISTER
URL:https://fivepointsarts.org/event/2025-summer-teen-art-labs/2025-08-14/
LOCATION:Five Points Arts Center\, 855 University Drive\, Torrington\, CT\, 06790\, United States
CATEGORIES:Workshops
ATTACH;FMTTYPE=image/jpeg:https://fivepointsarts.org/wp-content/uploads/2025/06/STAL2025-workshops-full.jpg
END:VEVENT
BEGIN:VEVENT
DTSTART;TZID=America/New_York:20250813T130000
DTEND;TZID=America/New_York:20250813T163000
DTSTAMP:20260419T085859
CREATED:20250328T192844Z
LAST-MODIFIED:20250605T144558Z
UID:34757-1755090000-1755102600@fivepointsarts.org
SUMMARY:2025 Summer Teen Art Labs
DESCRIPTION:Instructors: Jill Van Slooten\, Caleb Portfolio\, Kimberly Jo & Christine Mitchell \nDates: Mondays – Thursdays\, July 7 through August 14\, 2025 \nTime: 1:00 – 4:30 PM \nAges: 13 – 17 \nMembers & Non-Members: FREE \nThe 2025 Summer Teen Art Labs have arrived! Designed to hone your artmaking\, expand your creative problem-solving skills and build a strong portfolio\, this fully funded program offers comprehensive workshops in Ceramics\, Printmaking\, Alternative Photography\, and Painting & Drawing. \nMORE INFO & REGISTER
URL:https://fivepointsarts.org/event/2025-summer-teen-art-labs/2025-08-13/
LOCATION:Five Points Arts Center\, 855 University Drive\, Torrington\, CT\, 06790\, United States
CATEGORIES:Workshops
ATTACH;FMTTYPE=image/jpeg:https://fivepointsarts.org/wp-content/uploads/2025/06/STAL2025-workshops-full.jpg
END:VEVENT
BEGIN:VEVENT
DTSTART;TZID=America/New_York:20250812T130000
DTEND;TZID=America/New_York:20250812T163000
DTSTAMP:20260419T085859
CREATED:20250328T192844Z
LAST-MODIFIED:20250605T144557Z
UID:34756-1755003600-1755016200@fivepointsarts.org
SUMMARY:2025 Summer Teen Art Labs
DESCRIPTION:Instructors: Jill Van Slooten\, Caleb Portfolio\, Kimberly Jo & Christine Mitchell \nDates: Mondays – Thursdays\, July 7 through August 14\, 2025 \nTime: 1:00 – 4:30 PM \nAges: 13 – 17 \nMembers & Non-Members: FREE \nThe 2025 Summer Teen Art Labs have arrived! Designed to hone your artmaking\, expand your creative problem-solving skills and build a strong portfolio\, this fully funded program offers comprehensive workshops in Ceramics\, Printmaking\, Alternative Photography\, and Painting & Drawing. \nMORE INFO & REGISTER
URL:https://fivepointsarts.org/event/2025-summer-teen-art-labs/2025-08-12/
LOCATION:Five Points Arts Center\, 855 University Drive\, Torrington\, CT\, 06790\, United States
CATEGORIES:Workshops
ATTACH;FMTTYPE=image/jpeg:https://fivepointsarts.org/wp-content/uploads/2025/06/STAL2025-workshops-full.jpg
END:VEVENT
BEGIN:VEVENT
DTSTART;TZID=America/New_York:20250811T130000
DTEND;TZID=America/New_York:20250811T163000
DTSTAMP:20260419T085859
CREATED:20250328T192844Z
LAST-MODIFIED:20250605T144554Z
UID:34755-1754917200-1754929800@fivepointsarts.org
SUMMARY:2025 Summer Teen Art Labs
DESCRIPTION:Instructors: Jill Van Slooten\, Caleb Portfolio\, Kimberly Jo & Christine Mitchell \nDates: Mondays – Thursdays\, July 7 through August 14\, 2025 \nTime: 1:00 – 4:30 PM \nAges: 13 – 17 \nMembers & Non-Members: FREE \nThe 2025 Summer Teen Art Labs have arrived! Designed to hone your artmaking\, expand your creative problem-solving skills and build a strong portfolio\, this fully funded program offers comprehensive workshops in Ceramics\, Printmaking\, Alternative Photography\, and Painting & Drawing. \nMORE INFO & REGISTER
URL:https://fivepointsarts.org/event/2025-summer-teen-art-labs/2025-08-11/
LOCATION:Five Points Arts Center\, 855 University Drive\, Torrington\, CT\, 06790\, United States
CATEGORIES:Workshops
ATTACH;FMTTYPE=image/jpeg:https://fivepointsarts.org/wp-content/uploads/2025/06/STAL2025-workshops-full.jpg
END:VEVENT
BEGIN:VEVENT
DTSTART;TZID=America/New_York:20250807T130000
DTEND;TZID=America/New_York:20250807T163000
DTSTAMP:20260419T085859
CREATED:20250328T192844Z
LAST-MODIFIED:20250605T144554Z
UID:34754-1754571600-1754584200@fivepointsarts.org
SUMMARY:2025 Summer Teen Art Labs
DESCRIPTION:Instructors: Jill Van Slooten\, Caleb Portfolio\, Kimberly Jo & Christine Mitchell \nDates: Mondays – Thursdays\, July 7 through August 14\, 2025 \nTime: 1:00 – 4:30 PM \nAges: 13 – 17 \nMembers & Non-Members: FREE \nThe 2025 Summer Teen Art Labs have arrived! Designed to hone your artmaking\, expand your creative problem-solving skills and build a strong portfolio\, this fully funded program offers comprehensive workshops in Ceramics\, Printmaking\, Alternative Photography\, and Painting & Drawing. \nMORE INFO & REGISTER
URL:https://fivepointsarts.org/event/2025-summer-teen-art-labs/2025-08-07/
LOCATION:Five Points Arts Center\, 855 University Drive\, Torrington\, CT\, 06790\, United States
CATEGORIES:Workshops
ATTACH;FMTTYPE=image/jpeg:https://fivepointsarts.org/wp-content/uploads/2025/06/STAL2025-workshops-full.jpg
END:VEVENT
BEGIN:VEVENT
DTSTART;TZID=America/New_York:20250806T130000
DTEND;TZID=America/New_York:20250806T163000
DTSTAMP:20260419T085859
CREATED:20250328T192844Z
LAST-MODIFIED:20250605T144553Z
UID:34753-1754485200-1754497800@fivepointsarts.org
SUMMARY:2025 Summer Teen Art Labs
DESCRIPTION:Instructors: Jill Van Slooten\, Caleb Portfolio\, Kimberly Jo & Christine Mitchell \nDates: Mondays – Thursdays\, July 7 through August 14\, 2025 \nTime: 1:00 – 4:30 PM \nAges: 13 – 17 \nMembers & Non-Members: FREE \nThe 2025 Summer Teen Art Labs have arrived! Designed to hone your artmaking\, expand your creative problem-solving skills and build a strong portfolio\, this fully funded program offers comprehensive workshops in Ceramics\, Printmaking\, Alternative Photography\, and Painting & Drawing. \nMORE INFO & REGISTER
URL:https://fivepointsarts.org/event/2025-summer-teen-art-labs/2025-08-06/
LOCATION:Five Points Arts Center\, 855 University Drive\, Torrington\, CT\, 06790\, United States
CATEGORIES:Workshops
ATTACH;FMTTYPE=image/jpeg:https://fivepointsarts.org/wp-content/uploads/2025/06/STAL2025-workshops-full.jpg
END:VEVENT
BEGIN:VEVENT
DTSTART;TZID=America/New_York:20250805T130000
DTEND;TZID=America/New_York:20250805T163000
DTSTAMP:20260419T085859
CREATED:20250328T192844Z
LAST-MODIFIED:20250605T144552Z
UID:34752-1754398800-1754411400@fivepointsarts.org
SUMMARY:2025 Summer Teen Art Labs
DESCRIPTION:Instructors: Jill Van Slooten\, Caleb Portfolio\, Kimberly Jo & Christine Mitchell \nDates: Mondays – Thursdays\, July 7 through August 14\, 2025 \nTime: 1:00 – 4:30 PM \nAges: 13 – 17 \nMembers & Non-Members: FREE \nThe 2025 Summer Teen Art Labs have arrived! Designed to hone your artmaking\, expand your creative problem-solving skills and build a strong portfolio\, this fully funded program offers comprehensive workshops in Ceramics\, Printmaking\, Alternative Photography\, and Painting & Drawing. \nMORE INFO & REGISTER
URL:https://fivepointsarts.org/event/2025-summer-teen-art-labs/2025-08-05/
LOCATION:Five Points Arts Center\, 855 University Drive\, Torrington\, CT\, 06790\, United States
CATEGORIES:Workshops
ATTACH;FMTTYPE=image/jpeg:https://fivepointsarts.org/wp-content/uploads/2025/06/STAL2025-workshops-full.jpg
END:VEVENT
BEGIN:VEVENT
DTSTART;TZID=America/New_York:20250804T130000
DTEND;TZID=America/New_York:20250804T163000
DTSTAMP:20260419T085859
CREATED:20250328T192844Z
LAST-MODIFIED:20250605T144551Z
UID:34751-1754312400-1754325000@fivepointsarts.org
SUMMARY:2025 Summer Teen Art Labs
DESCRIPTION:Instructors: Jill Van Slooten\, Caleb Portfolio\, Kimberly Jo & Christine Mitchell \nDates: Mondays – Thursdays\, July 7 through August 14\, 2025 \nTime: 1:00 – 4:30 PM \nAges: 13 – 17 \nMembers & Non-Members: FREE \nThe 2025 Summer Teen Art Labs have arrived! Designed to hone your artmaking\, expand your creative problem-solving skills and build a strong portfolio\, this fully funded program offers comprehensive workshops in Ceramics\, Printmaking\, Alternative Photography\, and Painting & Drawing. \nMORE INFO & REGISTER
URL:https://fivepointsarts.org/event/2025-summer-teen-art-labs/2025-08-04/
LOCATION:Five Points Arts Center\, 855 University Drive\, Torrington\, CT\, 06790\, United States
CATEGORIES:Workshops
ATTACH;FMTTYPE=image/jpeg:https://fivepointsarts.org/wp-content/uploads/2025/06/STAL2025-workshops-full.jpg
END:VEVENT
BEGIN:VEVENT
DTSTART;TZID=America/New_York:20250731T130000
DTEND;TZID=America/New_York:20250731T163000
DTSTAMP:20260419T085859
CREATED:20250328T192844Z
LAST-MODIFIED:20250605T144551Z
UID:34750-1753966800-1753979400@fivepointsarts.org
SUMMARY:2025 Summer Teen Art Labs
DESCRIPTION:Instructors: Jill Van Slooten\, Caleb Portfolio\, Kimberly Jo & Christine Mitchell \nDates: Mondays – Thursdays\, July 7 through August 14\, 2025 \nTime: 1:00 – 4:30 PM \nAges: 13 – 17 \nMembers & Non-Members: FREE \nThe 2025 Summer Teen Art Labs have arrived! Designed to hone your artmaking\, expand your creative problem-solving skills and build a strong portfolio\, this fully funded program offers comprehensive workshops in Ceramics\, Printmaking\, Alternative Photography\, and Painting & Drawing. \nMORE INFO & REGISTER
URL:https://fivepointsarts.org/event/2025-summer-teen-art-labs/2025-07-31/
LOCATION:Five Points Arts Center\, 855 University Drive\, Torrington\, CT\, 06790\, United States
CATEGORIES:Workshops
ATTACH;FMTTYPE=image/jpeg:https://fivepointsarts.org/wp-content/uploads/2025/06/STAL2025-workshops-full.jpg
END:VEVENT
BEGIN:VEVENT
DTSTART;TZID=America/New_York:20250730T130000
DTEND;TZID=America/New_York:20250730T163000
DTSTAMP:20260419T085859
CREATED:20250328T192844Z
LAST-MODIFIED:20250605T144550Z
UID:34749-1753880400-1753893000@fivepointsarts.org
SUMMARY:2025 Summer Teen Art Labs
DESCRIPTION:Instructors: Jill Van Slooten\, Caleb Portfolio\, Kimberly Jo & Christine Mitchell \nDates: Mondays – Thursdays\, July 7 through August 14\, 2025 \nTime: 1:00 – 4:30 PM \nAges: 13 – 17 \nMembers & Non-Members: FREE \nThe 2025 Summer Teen Art Labs have arrived! Designed to hone your artmaking\, expand your creative problem-solving skills and build a strong portfolio\, this fully funded program offers comprehensive workshops in Ceramics\, Printmaking\, Alternative Photography\, and Painting & Drawing. \nMORE INFO & REGISTER
URL:https://fivepointsarts.org/event/2025-summer-teen-art-labs/2025-07-30/
LOCATION:Five Points Arts Center\, 855 University Drive\, Torrington\, CT\, 06790\, United States
CATEGORIES:Workshops
ATTACH;FMTTYPE=image/jpeg:https://fivepointsarts.org/wp-content/uploads/2025/06/STAL2025-workshops-full.jpg
END:VEVENT
BEGIN:VEVENT
DTSTART;TZID=America/New_York:20250729T130000
DTEND;TZID=America/New_York:20250729T163000
DTSTAMP:20260419T085859
CREATED:20250328T192844Z
LAST-MODIFIED:20250605T144549Z
UID:34748-1753794000-1753806600@fivepointsarts.org
SUMMARY:2025 Summer Teen Art Labs
DESCRIPTION:Instructors: Jill Van Slooten\, Caleb Portfolio\, Kimberly Jo & Christine Mitchell \nDates: Mondays – Thursdays\, July 7 through August 14\, 2025 \nTime: 1:00 – 4:30 PM \nAges: 13 – 17 \nMembers & Non-Members: FREE \nThe 2025 Summer Teen Art Labs have arrived! Designed to hone your artmaking\, expand your creative problem-solving skills and build a strong portfolio\, this fully funded program offers comprehensive workshops in Ceramics\, Printmaking\, Alternative Photography\, and Painting & Drawing. \nMORE INFO & REGISTER
URL:https://fivepointsarts.org/event/2025-summer-teen-art-labs/2025-07-29/
LOCATION:Five Points Arts Center\, 855 University Drive\, Torrington\, CT\, 06790\, United States
CATEGORIES:Workshops
ATTACH;FMTTYPE=image/jpeg:https://fivepointsarts.org/wp-content/uploads/2025/06/STAL2025-workshops-full.jpg
END:VEVENT
BEGIN:VEVENT
DTSTART;TZID=America/New_York:20250728T130000
DTEND;TZID=America/New_York:20250728T163000
DTSTAMP:20260419T085859
CREATED:20250328T192844Z
LAST-MODIFIED:20250605T144548Z
UID:34747-1753707600-1753720200@fivepointsarts.org
SUMMARY:2025 Summer Teen Art Labs
DESCRIPTION:Instructors: Jill Van Slooten\, Caleb Portfolio\, Kimberly Jo & Christine Mitchell \nDates: Mondays – Thursdays\, July 7 through August 14\, 2025 \nTime: 1:00 – 4:30 PM \nAges: 13 – 17 \nMembers & Non-Members: FREE \nThe 2025 Summer Teen Art Labs have arrived! Designed to hone your artmaking\, expand your creative problem-solving skills and build a strong portfolio\, this fully funded program offers comprehensive workshops in Ceramics\, Printmaking\, Alternative Photography\, and Painting & Drawing. \nMORE INFO & REGISTER
URL:https://fivepointsarts.org/event/2025-summer-teen-art-labs/2025-07-28/
LOCATION:Five Points Arts Center\, 855 University Drive\, Torrington\, CT\, 06790\, United States
CATEGORIES:Workshops
ATTACH;FMTTYPE=image/jpeg:https://fivepointsarts.org/wp-content/uploads/2025/06/STAL2025-workshops-full.jpg
END:VEVENT
BEGIN:VEVENT
DTSTART;TZID=America/New_York:20250724T130000
DTEND;TZID=America/New_York:20250724T163000
DTSTAMP:20260419T085859
CREATED:20250328T192844Z
LAST-MODIFIED:20250605T144547Z
UID:34746-1753362000-1753374600@fivepointsarts.org
SUMMARY:2025 Summer Teen Art Labs
DESCRIPTION:Instructors: Jill Van Slooten\, Caleb Portfolio\, Kimberly Jo & Christine Mitchell \nDates: Mondays – Thursdays\, July 7 through August 14\, 2025 \nTime: 1:00 – 4:30 PM \nAges: 13 – 17 \nMembers & Non-Members: FREE \nThe 2025 Summer Teen Art Labs have arrived! Designed to hone your artmaking\, expand your creative problem-solving skills and build a strong portfolio\, this fully funded program offers comprehensive workshops in Ceramics\, Printmaking\, Alternative Photography\, and Painting & Drawing. \nMORE INFO & REGISTER
URL:https://fivepointsarts.org/event/2025-summer-teen-art-labs/2025-07-24/
LOCATION:Five Points Arts Center\, 855 University Drive\, Torrington\, CT\, 06790\, United States
CATEGORIES:Workshops
ATTACH;FMTTYPE=image/jpeg:https://fivepointsarts.org/wp-content/uploads/2025/06/STAL2025-workshops-full.jpg
END:VEVENT
BEGIN:VEVENT
DTSTART;TZID=America/New_York:20250723T130000
DTEND;TZID=America/New_York:20250723T163000
DTSTAMP:20260419T085859
CREATED:20250328T192844Z
LAST-MODIFIED:20250605T144542Z
UID:34744-1753275600-1753288200@fivepointsarts.org
SUMMARY:2025 Summer Teen Art Labs
DESCRIPTION:Instructors: Jill Van Slooten\, Caleb Portfolio\, Kimberly Jo & Christine Mitchell \nDates: Mondays – Thursdays\, July 7 through August 14\, 2025 \nTime: 1:00 – 4:30 PM \nAges: 13 – 17 \nMembers & Non-Members: FREE \nThe 2025 Summer Teen Art Labs have arrived! Designed to hone your artmaking\, expand your creative problem-solving skills and build a strong portfolio\, this fully funded program offers comprehensive workshops in Ceramics\, Printmaking\, Alternative Photography\, and Painting & Drawing. \nMORE INFO & REGISTER
URL:https://fivepointsarts.org/event/2025-summer-teen-art-labs/2025-07-23/
LOCATION:Five Points Arts Center\, 855 University Drive\, Torrington\, CT\, 06790\, United States
CATEGORIES:Workshops
ATTACH;FMTTYPE=image/jpeg:https://fivepointsarts.org/wp-content/uploads/2025/06/STAL2025-workshops-full.jpg
END:VEVENT
BEGIN:VEVENT
DTSTART;TZID=America/New_York:20250722T130000
DTEND;TZID=America/New_York:20250722T163000
DTSTAMP:20260419T085859
CREATED:20250328T192844Z
LAST-MODIFIED:20250605T144541Z
UID:34743-1753189200-1753201800@fivepointsarts.org
SUMMARY:2025 Summer Teen Art Labs
DESCRIPTION:Instructors: Jill Van Slooten\, Caleb Portfolio\, Kimberly Jo & Christine Mitchell \nDates: Mondays – Thursdays\, July 7 through August 14\, 2025 \nTime: 1:00 – 4:30 PM \nAges: 13 – 17 \nMembers & Non-Members: FREE \nThe 2025 Summer Teen Art Labs have arrived! Designed to hone your artmaking\, expand your creative problem-solving skills and build a strong portfolio\, this fully funded program offers comprehensive workshops in Ceramics\, Printmaking\, Alternative Photography\, and Painting & Drawing. \nMORE INFO & REGISTER
URL:https://fivepointsarts.org/event/2025-summer-teen-art-labs/2025-07-22/
LOCATION:Five Points Arts Center\, 855 University Drive\, Torrington\, CT\, 06790\, United States
CATEGORIES:Workshops
ATTACH;FMTTYPE=image/jpeg:https://fivepointsarts.org/wp-content/uploads/2025/06/STAL2025-workshops-full.jpg
END:VEVENT
BEGIN:VEVENT
DTSTART;TZID=America/New_York:20250721T130000
DTEND;TZID=America/New_York:20250721T163000
DTSTAMP:20260419T085859
CREATED:20250328T192844Z
LAST-MODIFIED:20250605T144540Z
UID:34742-1753102800-1753115400@fivepointsarts.org
SUMMARY:2025 Summer Teen Art Labs
DESCRIPTION:Instructors: Jill Van Slooten\, Caleb Portfolio\, Kimberly Jo & Christine Mitchell \nDates: Mondays – Thursdays\, July 7 through August 14\, 2025 \nTime: 1:00 – 4:30 PM \nAges: 13 – 17 \nMembers & Non-Members: FREE \nThe 2025 Summer Teen Art Labs have arrived! Designed to hone your artmaking\, expand your creative problem-solving skills and build a strong portfolio\, this fully funded program offers comprehensive workshops in Ceramics\, Printmaking\, Alternative Photography\, and Painting & Drawing. \nMORE INFO & REGISTER
URL:https://fivepointsarts.org/event/2025-summer-teen-art-labs/2025-07-21/
LOCATION:Five Points Arts Center\, 855 University Drive\, Torrington\, CT\, 06790\, United States
CATEGORIES:Workshops
ATTACH;FMTTYPE=image/jpeg:https://fivepointsarts.org/wp-content/uploads/2025/06/STAL2025-workshops-full.jpg
END:VEVENT
BEGIN:VEVENT
DTSTART;TZID=America/New_York:20250717T130000
DTEND;TZID=America/New_York:20250717T163000
DTSTAMP:20260419T085859
CREATED:20250328T192844Z
LAST-MODIFIED:20250605T144539Z
UID:34741-1752757200-1752769800@fivepointsarts.org
SUMMARY:2025 Summer Teen Art Labs
DESCRIPTION:Instructors: Jill Van Slooten\, Caleb Portfolio\, Kimberly Jo & Christine Mitchell \nDates: Mondays – Thursdays\, July 7 through August 14\, 2025 \nTime: 1:00 – 4:30 PM \nAges: 13 – 17 \nMembers & Non-Members: FREE \nThe 2025 Summer Teen Art Labs have arrived! Designed to hone your artmaking\, expand your creative problem-solving skills and build a strong portfolio\, this fully funded program offers comprehensive workshops in Ceramics\, Printmaking\, Alternative Photography\, and Painting & Drawing. \nMORE INFO & REGISTER
URL:https://fivepointsarts.org/event/2025-summer-teen-art-labs/2025-07-17/
LOCATION:Five Points Arts Center\, 855 University Drive\, Torrington\, CT\, 06790\, United States
CATEGORIES:Workshops
ATTACH;FMTTYPE=image/jpeg:https://fivepointsarts.org/wp-content/uploads/2025/06/STAL2025-workshops-full.jpg
END:VEVENT
BEGIN:VEVENT
DTSTART;TZID=America/New_York:20250716T130000
DTEND;TZID=America/New_York:20250716T163000
DTSTAMP:20260419T085859
CREATED:20250328T192844Z
LAST-MODIFIED:20250605T144539Z
UID:34740-1752670800-1752683400@fivepointsarts.org
SUMMARY:2025 Summer Teen Art Labs
DESCRIPTION:Instructors: Jill Van Slooten\, Caleb Portfolio\, Kimberly Jo & Christine Mitchell \nDates: Mondays – Thursdays\, July 7 through August 14\, 2025 \nTime: 1:00 – 4:30 PM \nAges: 13 – 17 \nMembers & Non-Members: FREE \nThe 2025 Summer Teen Art Labs have arrived! Designed to hone your artmaking\, expand your creative problem-solving skills and build a strong portfolio\, this fully funded program offers comprehensive workshops in Ceramics\, Printmaking\, Alternative Photography\, and Painting & Drawing. \nMORE INFO & REGISTER
URL:https://fivepointsarts.org/event/2025-summer-teen-art-labs/2025-07-16/
LOCATION:Five Points Arts Center\, 855 University Drive\, Torrington\, CT\, 06790\, United States
CATEGORIES:Workshops
ATTACH;FMTTYPE=image/jpeg:https://fivepointsarts.org/wp-content/uploads/2025/06/STAL2025-workshops-full.jpg
END:VEVENT
BEGIN:VEVENT
DTSTART;TZID=America/New_York:20250715T130000
DTEND;TZID=America/New_York:20250715T163000
DTSTAMP:20260419T085859
CREATED:20250328T192844Z
LAST-MODIFIED:20250605T144538Z
UID:34739-1752584400-1752597000@fivepointsarts.org
SUMMARY:2025 Summer Teen Art Labs
DESCRIPTION:Instructors: Jill Van Slooten\, Caleb Portfolio\, Kimberly Jo & Christine Mitchell \nDates: Mondays – Thursdays\, July 7 through August 14\, 2025 \nTime: 1:00 – 4:30 PM \nAges: 13 – 17 \nMembers & Non-Members: FREE \nThe 2025 Summer Teen Art Labs have arrived! Designed to hone your artmaking\, expand your creative problem-solving skills and build a strong portfolio\, this fully funded program offers comprehensive workshops in Ceramics\, Printmaking\, Alternative Photography\, and Painting & Drawing. \nMORE INFO & REGISTER
URL:https://fivepointsarts.org/event/2025-summer-teen-art-labs/2025-07-15/
LOCATION:Five Points Arts Center\, 855 University Drive\, Torrington\, CT\, 06790\, United States
CATEGORIES:Workshops
ATTACH;FMTTYPE=image/jpeg:https://fivepointsarts.org/wp-content/uploads/2025/06/STAL2025-workshops-full.jpg
END:VEVENT
BEGIN:VEVENT
DTSTART;TZID=America/New_York:20250714T130000
DTEND;TZID=America/New_York:20250714T163000
DTSTAMP:20260419T085859
CREATED:20250328T192844Z
LAST-MODIFIED:20250605T144537Z
UID:34738-1752498000-1752510600@fivepointsarts.org
SUMMARY:2025 Summer Teen Art Labs
DESCRIPTION:Instructors: Jill Van Slooten\, Caleb Portfolio\, Kimberly Jo & Christine Mitchell \nDates: Mondays – Thursdays\, July 7 through August 14\, 2025 \nTime: 1:00 – 4:30 PM \nAges: 13 – 17 \nMembers & Non-Members: FREE \nThe 2025 Summer Teen Art Labs have arrived! Designed to hone your artmaking\, expand your creative problem-solving skills and build a strong portfolio\, this fully funded program offers comprehensive workshops in Ceramics\, Printmaking\, Alternative Photography\, and Painting & Drawing. \nMORE INFO & REGISTER
URL:https://fivepointsarts.org/event/2025-summer-teen-art-labs/2025-07-14/
LOCATION:Five Points Arts Center\, 855 University Drive\, Torrington\, CT\, 06790\, United States
CATEGORIES:Workshops
ATTACH;FMTTYPE=image/jpeg:https://fivepointsarts.org/wp-content/uploads/2025/06/STAL2025-workshops-full.jpg
END:VEVENT
BEGIN:VEVENT
DTSTART;TZID=America/New_York:20250710T130000
DTEND;TZID=America/New_York:20250710T163000
DTSTAMP:20260419T085859
CREATED:20250328T192844Z
LAST-MODIFIED:20250605T144536Z
UID:34737-1752152400-1752165000@fivepointsarts.org
SUMMARY:2025 Summer Teen Art Labs
DESCRIPTION:Instructors: Jill Van Slooten\, Caleb Portfolio\, Kimberly Jo & Christine Mitchell \nDates: Mondays – Thursdays\, July 7 through August 14\, 2025 \nTime: 1:00 – 4:30 PM \nAges: 13 – 17 \nMembers & Non-Members: FREE \nThe 2025 Summer Teen Art Labs have arrived! Designed to hone your artmaking\, expand your creative problem-solving skills and build a strong portfolio\, this fully funded program offers comprehensive workshops in Ceramics\, Printmaking\, Alternative Photography\, and Painting & Drawing. \nMORE INFO & REGISTER
URL:https://fivepointsarts.org/event/2025-summer-teen-art-labs/2025-07-10/
LOCATION:Five Points Arts Center\, 855 University Drive\, Torrington\, CT\, 06790\, United States
CATEGORIES:Workshops
ATTACH;FMTTYPE=image/jpeg:https://fivepointsarts.org/wp-content/uploads/2025/06/STAL2025-workshops-full.jpg
END:VEVENT
BEGIN:VEVENT
DTSTART;TZID=America/New_York:20250709T130000
DTEND;TZID=America/New_York:20250709T163000
DTSTAMP:20260419T085859
CREATED:20250328T192844Z
LAST-MODIFIED:20250605T144535Z
UID:34736-1752066000-1752078600@fivepointsarts.org
SUMMARY:2025 Summer Teen Art Labs
DESCRIPTION:Instructors: Jill Van Slooten\, Caleb Portfolio\, Kimberly Jo & Christine Mitchell \nDates: Mondays – Thursdays\, July 7 through August 14\, 2025 \nTime: 1:00 – 4:30 PM \nAges: 13 – 17 \nMembers & Non-Members: FREE \nThe 2025 Summer Teen Art Labs have arrived! Designed to hone your artmaking\, expand your creative problem-solving skills and build a strong portfolio\, this fully funded program offers comprehensive workshops in Ceramics\, Printmaking\, Alternative Photography\, and Painting & Drawing. \nMORE INFO & REGISTER
URL:https://fivepointsarts.org/event/2025-summer-teen-art-labs/2025-07-09/
LOCATION:Five Points Arts Center\, 855 University Drive\, Torrington\, CT\, 06790\, United States
CATEGORIES:Workshops
ATTACH;FMTTYPE=image/jpeg:https://fivepointsarts.org/wp-content/uploads/2025/06/STAL2025-workshops-full.jpg
END:VEVENT
BEGIN:VEVENT
DTSTART;TZID=America/New_York:20250708T130000
DTEND;TZID=America/New_York:20250708T163000
DTSTAMP:20260419T085859
CREATED:20250328T192844Z
LAST-MODIFIED:20250605T144535Z
UID:34735-1751979600-1751992200@fivepointsarts.org
SUMMARY:2025 Summer Teen Art Labs
DESCRIPTION:Instructors: Jill Van Slooten\, Caleb Portfolio\, Kimberly Jo & Christine Mitchell \nDates: Mondays – Thursdays\, July 7 through August 14\, 2025 \nTime: 1:00 – 4:30 PM \nAges: 13 – 17 \nMembers & Non-Members: FREE \nThe 2025 Summer Teen Art Labs have arrived! Designed to hone your artmaking\, expand your creative problem-solving skills and build a strong portfolio\, this fully funded program offers comprehensive workshops in Ceramics\, Printmaking\, Alternative Photography\, and Painting & Drawing. \nMORE INFO & REGISTER
URL:https://fivepointsarts.org/event/2025-summer-teen-art-labs/2025-07-08/
LOCATION:Five Points Arts Center\, 855 University Drive\, Torrington\, CT\, 06790\, United States
CATEGORIES:Workshops
ATTACH;FMTTYPE=image/jpeg:https://fivepointsarts.org/wp-content/uploads/2025/06/STAL2025-workshops-full.jpg
END:VEVENT
BEGIN:VEVENT
DTSTART;TZID=America/New_York:20250707T130000
DTEND;TZID=America/New_York:20250707T163000
DTSTAMP:20260419T085859
CREATED:20250328T192844Z
LAST-MODIFIED:20250605T144534Z
UID:34731-1751893200-1751905800@fivepointsarts.org
SUMMARY:2025 Summer Teen Art Labs
DESCRIPTION:Instructors: Jill Van Slooten\, Caleb Portfolio\, Kimberly Jo & Christine Mitchell \nDates: Mondays – Thursdays\, July 7 through August 14\, 2025 \nTime: 1:00 – 4:30 PM \nAges: 13 – 17 \nMembers & Non-Members: FREE \nThe 2025 Summer Teen Art Labs have arrived! Designed to hone your artmaking\, expand your creative problem-solving skills and build a strong portfolio\, this fully funded program offers comprehensive workshops in Ceramics\, Printmaking\, Alternative Photography\, and Painting & Drawing. \nMORE INFO & REGISTER
URL:https://fivepointsarts.org/event/2025-summer-teen-art-labs/2025-07-07/
LOCATION:Five Points Arts Center\, 855 University Drive\, Torrington\, CT\, 06790\, United States
CATEGORIES:Workshops
ATTACH;FMTTYPE=image/jpeg:https://fivepointsarts.org/wp-content/uploads/2025/06/STAL2025-workshops-full.jpg
END:VEVENT
END:VCALENDAR