BEGIN:VCALENDAR
VERSION:2.0
PRODID:-//Five Points Center For The Visual Arts - ECPv6.15.20//NONSGML v1.0//EN
CALSCALE:GREGORIAN
METHOD:PUBLISH
X-ORIGINAL-URL:https://fivepointsarts.org
X-WR-CALDESC:Events for Five Points Center For The Visual Arts
REFRESH-INTERVAL;VALUE=DURATION:PT1H
X-Robots-Tag:noindex
X-PUBLISHED-TTL:PT1H
BEGIN:VTIMEZONE
TZID:America/New_York
BEGIN:DAYLIGHT
TZOFFSETFROM:-0500
TZOFFSETTO:-0400
TZNAME:EDT
DTSTART:20250309T070000
END:DAYLIGHT
BEGIN:STANDARD
TZOFFSETFROM:-0400
TZOFFSETTO:-0500
TZNAME:EST
DTSTART:20251102T060000
END:STANDARD
BEGIN:DAYLIGHT
TZOFFSETFROM:-0500
TZOFFSETTO:-0400
TZNAME:EDT
DTSTART:20260308T070000
END:DAYLIGHT
BEGIN:STANDARD
TZOFFSETFROM:-0400
TZOFFSETTO:-0500
TZNAME:EST
DTSTART:20261101T060000
END:STANDARD
BEGIN:DAYLIGHT
TZOFFSETFROM:-0500
TZOFFSETTO:-0400
TZNAME:EDT
DTSTART:20270314T070000
END:DAYLIGHT
BEGIN:STANDARD
TZOFFSETFROM:-0400
TZOFFSETTO:-0500
TZNAME:EST
DTSTART:20271107T060000
END:STANDARD
END:VTIMEZONE
BEGIN:VEVENT
DTSTART;TZID=America/New_York:20260613T190000
DTEND;TZID=America/New_York:20260613T210000
DTSTAMP:20260421T160528
CREATED:20260421T161943Z
LAST-MODIFIED:20260421T162628Z
UID:44205-1781377200-1781384400@fivepointsarts.org
SUMMARY:A Goodnight Kiss
DESCRIPTION:  \nA Goodnight Kiss \nIn 1863\, a time when handwritten letters carried news of hope or despair\, a correspondence began between two young New England residents whose relationship blossomed in the shadow of the Civil War. Missed opportunities\, unreliable mail\, and the ever-present threat of tragedy raised profound obstacles that would make or break their bond. This dramatization of the deeply moving real-life correspondence between two individuals proves the triumph of human connection despite all adversity. \nBased on actual love letters\, this historical drama was produced and directed by veteran TV/film actress Kathy Kelly and written by award-winning\, internationally acclaimed playwright Cinzi Lavin. \n—– \nThe cast features David Macharelli\, Olivia Wadsworth\, Robert Kwalick\, John Fabiani\, Joel Osborne\, Harmony Tanguay\, and Roni Gelormino. \nCINZI LAVIN (Playwright) Cinzi Lavin’s plays and musical dramas have been produced around the U.S. and abroad. Her career highlights include a performance by invitation at the White House in 2010. In 2020\, she was honored with an award from the National Society Daughters of the American Revolution (NSDAR) for her influence on American culture. She is a fellow of the Royal Society of Arts. \nKATHY KELLY (Director) Actor/director Kathy Kelly has appeared in numerous film\, stage\, and TV productions as well as co-starring in an Emmy Award-winning TV series. Her directorial credits include professional regional productions of Guys and Dolls\, Arsenic and Old Lace\, and Man of La Mancha\, as well as off-Broadway productions. Her past experience in arts education involves teaching positions at both SUNY Farmingdale and in Long Island University’s prestigious Theatre Department. She is a proud member of the Screen Actors Guild (SAG-AFTRA) and Actors’ Equity Association.
URL:https://fivepointsarts.org/event/a-goodnight-kiss/2026-06-13/
LOCATION:Five Points Arts Center\, 855 University Drive\, Torrington\, CT\, 06790\, United States
CATEGORIES:Special Event
ATTACH;FMTTYPE=image/jpeg:https://fivepointsarts.org/wp-content/uploads/2026/04/goodnightkiss_poster-copy-1.jpg
END:VEVENT
BEGIN:VEVENT
DTSTART;TZID=America/New_York:20260614T140000
DTEND;TZID=America/New_York:20260614T160000
DTSTAMP:20260421T160528
CREATED:20260421T161943Z
LAST-MODIFIED:20260421T162628Z
UID:44214-1781445600-1781452800@fivepointsarts.org
SUMMARY:A Goodnight Kiss
DESCRIPTION:  \nA Goodnight Kiss \nIn 1863\, a time when handwritten letters carried news of hope or despair\, a correspondence began between two young New England residents whose relationship blossomed in the shadow of the Civil War. Missed opportunities\, unreliable mail\, and the ever-present threat of tragedy raised profound obstacles that would make or break their bond. This dramatization of the deeply moving real-life correspondence between two individuals proves the triumph of human connection despite all adversity. \nBased on actual love letters\, this historical drama was produced and directed by veteran TV/film actress Kathy Kelly and written by award-winning\, internationally acclaimed playwright Cinzi Lavin. \n—– \nThe cast features David Macharelli\, Olivia Wadsworth\, Robert Kwalick\, John Fabiani\, Joel Osborne\, Harmony Tanguay\, and Roni Gelormino. \nCINZI LAVIN (Playwright) Cinzi Lavin’s plays and musical dramas have been produced around the U.S. and abroad. Her career highlights include a performance by invitation at the White House in 2010. In 2020\, she was honored with an award from the National Society Daughters of the American Revolution (NSDAR) for her influence on American culture. She is a fellow of the Royal Society of Arts. \nKATHY KELLY (Director) Actor/director Kathy Kelly has appeared in numerous film\, stage\, and TV productions as well as co-starring in an Emmy Award-winning TV series. Her directorial credits include professional regional productions of Guys and Dolls\, Arsenic and Old Lace\, and Man of La Mancha\, as well as off-Broadway productions. Her past experience in arts education involves teaching positions at both SUNY Farmingdale and in Long Island University’s prestigious Theatre Department. She is a proud member of the Screen Actors Guild (SAG-AFTRA) and Actors’ Equity Association.
URL:https://fivepointsarts.org/event/a-goodnight-kiss/2026-06-14/
LOCATION:Five Points Arts Center\, 855 University Drive\, Torrington\, CT\, 06790\, United States
CATEGORIES:Special Event
ATTACH;FMTTYPE=image/jpeg:https://fivepointsarts.org/wp-content/uploads/2026/04/goodnightkiss_poster-copy-1.jpg
END:VEVENT
END:VCALENDAR