BEGIN:VCALENDAR
VERSION:2.0
PRODID:-//Five Points Center For The Visual Arts - ECPv6.15.20//NONSGML v1.0//EN
CALSCALE:GREGORIAN
METHOD:PUBLISH
X-WR-CALNAME:Five Points Center For The Visual Arts
X-ORIGINAL-URL:https://fivepointsarts.org
X-WR-CALDESC:Events for Five Points Center For The Visual Arts
REFRESH-INTERVAL;VALUE=DURATION:PT1H
X-Robots-Tag:noindex
X-PUBLISHED-TTL:PT1H
BEGIN:VTIMEZONE
TZID:America/New_York
BEGIN:DAYLIGHT
TZOFFSETFROM:-0500
TZOFFSETTO:-0400
TZNAME:EDT
DTSTART:20220313T070000
END:DAYLIGHT
BEGIN:STANDARD
TZOFFSETFROM:-0400
TZOFFSETTO:-0500
TZNAME:EST
DTSTART:20221106T060000
END:STANDARD
BEGIN:DAYLIGHT
TZOFFSETFROM:-0500
TZOFFSETTO:-0400
TZNAME:EDT
DTSTART:20230312T070000
END:DAYLIGHT
BEGIN:STANDARD
TZOFFSETFROM:-0400
TZOFFSETTO:-0500
TZNAME:EST
DTSTART:20231105T060000
END:STANDARD
BEGIN:DAYLIGHT
TZOFFSETFROM:-0500
TZOFFSETTO:-0400
TZNAME:EDT
DTSTART:20240310T070000
END:DAYLIGHT
BEGIN:STANDARD
TZOFFSETFROM:-0400
TZOFFSETTO:-0500
TZNAME:EST
DTSTART:20241103T060000
END:STANDARD
END:VTIMEZONE
BEGIN:VEVENT
DTSTART;TZID=America/New_York:20230118T080000
DTEND;TZID=America/New_York:20230215T170000
DTSTAMP:20260425T071423
CREATED:20221228T202212Z
LAST-MODIFIED:20221228T202745Z
UID:21556-1674028800-1676480400@fivepointsarts.org
SUMMARY:Discovering and Refining your Creative Voice: Unleash Your Power to Communicate
DESCRIPTION:Dates: Wednesday January 18\, 25\, February 1\, 8\, 15 \nTime: 10AM – 12PM \nMembers $ 90.00 \nNon – Members $ 100.00 \nMany art workshops focus on the “How” – Drawing\, Weaving\, Painting techniques. \nThis workshop will focus on the “Who\,” “What” and “Why” of Art. Who are you and what is your unique voice? What is it that you wish to communicate? And Why? \nArt is a form of communication. Each one of us has a unique perspective; we share our world using our unique voice. This workshop is an exploration in discovery. It is designed to encourage and appreciate our uniqueness through the art mediums. \nRegister: \nhttps://fivepointsarts.app.neoncrm.com/np/clients/fivepointsarts/event.jsp?event=478&#038;
URL:https://fivepointsarts.org/event/discovering-and-refining-your-creative-voice/2023-01-18/
LOCATION:Five Points Arts Center\, 855 University Drive\, Torrington\, CT\, 06790\, United States
CATEGORIES:Workshops
ATTACH;FMTTYPE=image/jpeg:https://fivepointsarts.org/wp-content/uploads/2022/11/thumbnail_voice-workshop.jpg
END:VEVENT
END:VCALENDAR