BEGIN:VCALENDAR
VERSION:2.0
PRODID:-//Five Points Center For The Visual Arts - ECPv6.15.20//NONSGML v1.0//EN
CALSCALE:GREGORIAN
METHOD:PUBLISH
X-WR-CALNAME:Five Points Center For The Visual Arts
X-ORIGINAL-URL:https://fivepointsarts.org
X-WR-CALDESC:Events for Five Points Center For The Visual Arts
REFRESH-INTERVAL;VALUE=DURATION:PT1H
X-Robots-Tag:noindex
X-PUBLISHED-TTL:PT1H
BEGIN:VTIMEZONE
TZID:America/New_York
BEGIN:DAYLIGHT
TZOFFSETFROM:-0500
TZOFFSETTO:-0400
TZNAME:EDT
DTSTART:20240310T070000
END:DAYLIGHT
BEGIN:STANDARD
TZOFFSETFROM:-0400
TZOFFSETTO:-0500
TZNAME:EST
DTSTART:20241103T060000
END:STANDARD
BEGIN:DAYLIGHT
TZOFFSETFROM:-0500
TZOFFSETTO:-0400
TZNAME:EDT
DTSTART:20250309T070000
END:DAYLIGHT
BEGIN:STANDARD
TZOFFSETFROM:-0400
TZOFFSETTO:-0500
TZNAME:EST
DTSTART:20251102T060000
END:STANDARD
BEGIN:DAYLIGHT
TZOFFSETFROM:-0500
TZOFFSETTO:-0400
TZNAME:EDT
DTSTART:20260308T070000
END:DAYLIGHT
BEGIN:STANDARD
TZOFFSETFROM:-0400
TZOFFSETTO:-0500
TZNAME:EST
DTSTART:20261101T060000
END:STANDARD
END:VTIMEZONE
BEGIN:VEVENT
DTSTART;TZID=America/New_York:20251123T093000
DTEND;TZID=America/New_York:20251123T163000
DTSTAMP:20260421T082556
CREATED:20251104T162227Z
LAST-MODIFIED:20251104T162227Z
UID:41088-1763890200-1763915400@fivepointsarts.org
SUMMARY:Introduction to Printmaking: Color Relief Printing
DESCRIPTION:Instructor: Mark Zunino\nSaturday & Sunday\, November 22 & 23\, 2025\n9:30 AM – 4:30 PM\nAges: 16+\nMembers: $126.00 / Non-Members: $140.00\n  \nParticipants will learn reduction relief printing through a step-by-step process. You will develop an image – either an original drawing or a Photoshopped photograph – as the basis for a three-color plus black print. The workshop will cover image preparation\, block carving\, ink mixing and printing on the Vandercook Press. \nMORE INFO & REGISTER
URL:https://fivepointsarts.org/event/introduction-to-printmaking-color-relief-printing/2025-11-23/
LOCATION:Five Points Arts Center\, 855 University Drive\, Torrington\, CT\, 06790\, United States
CATEGORIES:Workshops
ATTACH;FMTTYPE=image/png:https://fivepointsarts.org/wp-content/uploads/2025/09/M-Zunino-Intro-printmaking-IMG_3277.png
END:VEVENT
END:VCALENDAR