BEGIN:VCALENDAR
VERSION:2.0
PRODID:-//Five Points Center For The Visual Arts - ECPv6.15.20//NONSGML v1.0//EN
CALSCALE:GREGORIAN
METHOD:PUBLISH
X-WR-CALNAME:Five Points Center For The Visual Arts
X-ORIGINAL-URL:https://fivepointsarts.org
X-WR-CALDESC:Events for Five Points Center For The Visual Arts
REFRESH-INTERVAL;VALUE=DURATION:PT1H
X-Robots-Tag:noindex
X-PUBLISHED-TTL:PT1H
BEGIN:VTIMEZONE
TZID:America/New_York
BEGIN:DAYLIGHT
TZOFFSETFROM:-0500
TZOFFSETTO:-0400
TZNAME:EDT
DTSTART:20240310T070000
END:DAYLIGHT
BEGIN:STANDARD
TZOFFSETFROM:-0400
TZOFFSETTO:-0500
TZNAME:EST
DTSTART:20241103T060000
END:STANDARD
BEGIN:DAYLIGHT
TZOFFSETFROM:-0500
TZOFFSETTO:-0400
TZNAME:EDT
DTSTART:20250309T070000
END:DAYLIGHT
BEGIN:STANDARD
TZOFFSETFROM:-0400
TZOFFSETTO:-0500
TZNAME:EST
DTSTART:20251102T060000
END:STANDARD
BEGIN:DAYLIGHT
TZOFFSETFROM:-0500
TZOFFSETTO:-0400
TZNAME:EDT
DTSTART:20260308T070000
END:DAYLIGHT
BEGIN:STANDARD
TZOFFSETFROM:-0400
TZOFFSETTO:-0500
TZNAME:EST
DTSTART:20261101T060000
END:STANDARD
END:VTIMEZONE
BEGIN:VEVENT
DTSTART;TZID=America/New_York:20251014T140000
DTEND;TZID=America/New_York:20251014T163000
DTSTAMP:20260421T114937
CREATED:20250818T172706Z
LAST-MODIFIED:20250919T172958Z
UID:39682-1760450400-1760459400@fivepointsarts.org
SUMMARY:Introduction to the Art of Watercolor
DESCRIPTION:Instructor: Terry Donsen Feder\nTuesdays\, October 7\, 14\, 21 & 28\, 2025\n2:00 – 4:30 PM\nMembers: $99 / Non-Members: $110\n  \nStart to explore the creative potential of painting with watercolor! Learn about mark making\, negative space\, pigments\, transparency\, and wet and dry techniques from this highly experienced artist and educator. No experience is necessary\, all levels are welcome. \nMORE INFO & REGISTER
URL:https://fivepointsarts.org/event/introduction-to-the-art-of-watercolor/2025-10-14/
LOCATION:Five Points Arts Center\, 855 University Drive\, Torrington\, CT\, 06790\, United States
CATEGORIES:Workshops
ATTACH;FMTTYPE=image/jpeg:https://fivepointsarts.org/wp-content/uploads/2025/09/T-Donsen-Feder-Watercolors-workshop-full.jpg
END:VEVENT
END:VCALENDAR