BEGIN:VCALENDAR
VERSION:2.0
PRODID:-//Five Points Center For The Visual Arts - ECPv6.15.20//NONSGML v1.0//EN
CALSCALE:GREGORIAN
METHOD:PUBLISH
X-WR-CALNAME:Five Points Center For The Visual Arts
X-ORIGINAL-URL:https://fivepointsarts.org
X-WR-CALDESC:Events for Five Points Center For The Visual Arts
REFRESH-INTERVAL;VALUE=DURATION:PT1H
X-Robots-Tag:noindex
X-PUBLISHED-TTL:PT1H
BEGIN:VTIMEZONE
TZID:America/New_York
BEGIN:DAYLIGHT
TZOFFSETFROM:-0500
TZOFFSETTO:-0400
TZNAME:EDT
DTSTART:20240310T070000
END:DAYLIGHT
BEGIN:STANDARD
TZOFFSETFROM:-0400
TZOFFSETTO:-0500
TZNAME:EST
DTSTART:20241103T060000
END:STANDARD
BEGIN:DAYLIGHT
TZOFFSETFROM:-0500
TZOFFSETTO:-0400
TZNAME:EDT
DTSTART:20250309T070000
END:DAYLIGHT
BEGIN:STANDARD
TZOFFSETFROM:-0400
TZOFFSETTO:-0500
TZNAME:EST
DTSTART:20251102T060000
END:STANDARD
BEGIN:DAYLIGHT
TZOFFSETFROM:-0500
TZOFFSETTO:-0400
TZNAME:EDT
DTSTART:20260308T070000
END:DAYLIGHT
BEGIN:STANDARD
TZOFFSETFROM:-0400
TZOFFSETTO:-0500
TZNAME:EST
DTSTART:20261101T060000
END:STANDARD
END:VTIMEZONE
BEGIN:VEVENT
DTSTART;TZID=America/New_York:20251206T100000
DTEND;TZID=America/New_York:20251206T113000
DTSTAMP:20260421T101003
CREATED:20250818T171128Z
LAST-MODIFIED:20250930T152127Z
UID:40567-1765015200-1765020600@fivepointsarts.org
SUMMARY:Kid's Creative Hour
DESCRIPTION:Instructor: Macayla Muzzulin\nSaturdays\, October 18\, November 1\, 15 & December 6\, 2025\n10:00 – 11:30 AM\nAges: 4 – 8 years\nMembers: $9 per session / Non-Members: $10 per session\n  \nGive your child an experience that will teach them creativity and confidence! Each session will present a new project and weekly themes will be dedicated to adventure and exploring\, all with simple\, fun materials. \nMORE INFO & REGISTER
URL:https://fivepointsarts.org/event/kids-creative-hour/2025-12-06/
LOCATION:Five Points Arts Center\, 855 University Drive\, Torrington\, CT\, 06790\, United States
CATEGORIES:Workshops
ATTACH;FMTTYPE=image/jpeg:https://fivepointsarts.org/wp-content/uploads/2025/08/M-Muzzulin-Kids-Creative-Hour-e1755374402985.jpg
END:VEVENT
END:VCALENDAR