BEGIN:VCALENDAR
VERSION:2.0
PRODID:-//Five Points Center For The Visual Arts - ECPv6.15.20//NONSGML v1.0//EN
CALSCALE:GREGORIAN
METHOD:PUBLISH
X-WR-CALNAME:Five Points Center For The Visual Arts
X-ORIGINAL-URL:https://fivepointsarts.org
X-WR-CALDESC:Events for Five Points Center For The Visual Arts
REFRESH-INTERVAL;VALUE=DURATION:PT1H
X-Robots-Tag:noindex
X-PUBLISHED-TTL:PT1H
BEGIN:VTIMEZONE
TZID:America/New_York
BEGIN:DAYLIGHT
TZOFFSETFROM:-0500
TZOFFSETTO:-0400
TZNAME:EDT
DTSTART:20240310T070000
END:DAYLIGHT
BEGIN:STANDARD
TZOFFSETFROM:-0400
TZOFFSETTO:-0500
TZNAME:EST
DTSTART:20241103T060000
END:STANDARD
BEGIN:DAYLIGHT
TZOFFSETFROM:-0500
TZOFFSETTO:-0400
TZNAME:EDT
DTSTART:20250309T070000
END:DAYLIGHT
BEGIN:STANDARD
TZOFFSETFROM:-0400
TZOFFSETTO:-0500
TZNAME:EST
DTSTART:20251102T060000
END:STANDARD
BEGIN:DAYLIGHT
TZOFFSETFROM:-0500
TZOFFSETTO:-0400
TZNAME:EDT
DTSTART:20260308T070000
END:DAYLIGHT
BEGIN:STANDARD
TZOFFSETFROM:-0400
TZOFFSETTO:-0500
TZNAME:EST
DTSTART:20261101T060000
END:STANDARD
END:VTIMEZONE
BEGIN:VEVENT
DTSTART;TZID=America/New_York:20251206T100000
DTEND;TZID=America/New_York:20251206T140000
DTSTAMP:20260421T101132
CREATED:20251104T173438Z
LAST-MODIFIED:20251104T173438Z
UID:41102-1765015200-1765029600@fivepointsarts.org
SUMMARY:Santa Carving
DESCRIPTION:Instructor: Leo Hein\nSaturdays\, December 6 & 13\, 2025\n10:00 AM – 2:00 PM\nMembers: $108 / Non-Members: $120\n  \nGet ready for the holidays and hone your woodcarving skills in this comprehensive workshop designed for any level of experience. Participants will learn safe and effective carving techniques used to create a finished Santa carving made of pine. Master woodcarver\, Leo Hein\, will demonstrate tool safety\, tool maintenance\, and guide participants through the safe carving process using their own tools\, including how to best sharpen wood carving tools. \nMORE INFO & REGISTER
URL:https://fivepointsarts.org/event/santa-carving/2025-12-06/
LOCATION:Five Points Arts Center\, 855 University Drive\, Torrington\, CT\, 06790\, United States
CATEGORIES:Workshops
ATTACH;FMTTYPE=image/jpeg:https://fivepointsarts.org/wp-content/uploads/2025/10/L-Hein-Santa-Carving.jpeg
END:VEVENT
END:VCALENDAR