BEGIN:VCALENDAR
VERSION:2.0
PRODID:-//Five Points Center For The Visual Arts - ECPv6.15.20//NONSGML v1.0//EN
CALSCALE:GREGORIAN
METHOD:PUBLISH
X-WR-CALNAME:Five Points Center For The Visual Arts
X-ORIGINAL-URL:https://fivepointsarts.org
X-WR-CALDESC:Events for Five Points Center For The Visual Arts
REFRESH-INTERVAL;VALUE=DURATION:PT1H
X-Robots-Tag:noindex
X-PUBLISHED-TTL:PT1H
BEGIN:VTIMEZONE
TZID:America/New_York
BEGIN:DAYLIGHT
TZOFFSETFROM:-0500
TZOFFSETTO:-0400
TZNAME:EDT
DTSTART:20240310T070000
END:DAYLIGHT
BEGIN:STANDARD
TZOFFSETFROM:-0400
TZOFFSETTO:-0500
TZNAME:EST
DTSTART:20241103T060000
END:STANDARD
BEGIN:DAYLIGHT
TZOFFSETFROM:-0500
TZOFFSETTO:-0400
TZNAME:EDT
DTSTART:20250309T070000
END:DAYLIGHT
BEGIN:STANDARD
TZOFFSETFROM:-0400
TZOFFSETTO:-0500
TZNAME:EST
DTSTART:20251102T060000
END:STANDARD
BEGIN:DAYLIGHT
TZOFFSETFROM:-0500
TZOFFSETTO:-0400
TZNAME:EDT
DTSTART:20260308T070000
END:DAYLIGHT
BEGIN:STANDARD
TZOFFSETFROM:-0400
TZOFFSETTO:-0500
TZNAME:EST
DTSTART:20261101T060000
END:STANDARD
END:VTIMEZONE
BEGIN:VEVENT
DTSTART;TZID=America/New_York:20251210T100000
DTEND;TZID=America/New_York:20251210T130000
DTSTAMP:20260421T084400
CREATED:20251104T174900Z
LAST-MODIFIED:20251104T174900Z
UID:41110-1765360800-1765371600@fivepointsarts.org
SUMMARY:Stained Glass: Sunflower Suncatcher
DESCRIPTION:Instructor: Sarah Segovia\nWednesday\, December 10\, 2025\n10:00 AM – 1:00 PM\nMembers: $54 / Non-Members: $60\n  \nIn this introductory workshop\, students will learn the basic techniques of the stained glass craft. You’ll create a beautiful sunflower suncatcher to hang on your tree or give as a gift. All materials are included\, no experience necessary. \nMORE INFO & REGISTER
URL:https://fivepointsarts.org/event/stained-glass-sunflower-suncatcher/
LOCATION:Five Points Arts Center\, 855 University Drive\, Torrington\, CT\, 06790\, United States
CATEGORIES:Workshops
ATTACH;FMTTYPE=image/png:https://fivepointsarts.org/wp-content/uploads/2025/10/S-Segovia-Sunflower.png
END:VEVENT
END:VCALENDAR