BEGIN:VCALENDAR
VERSION:2.0
PRODID:-//Five Points Center For The Visual Arts - ECPv6.15.20//NONSGML v1.0//EN
CALSCALE:GREGORIAN
METHOD:PUBLISH
X-WR-CALNAME:Five Points Center For The Visual Arts
X-ORIGINAL-URL:https://fivepointsarts.org
X-WR-CALDESC:Events for Five Points Center For The Visual Arts
REFRESH-INTERVAL;VALUE=DURATION:PT1H
X-Robots-Tag:noindex
X-PUBLISHED-TTL:PT1H
BEGIN:VTIMEZONE
TZID:America/New_York
BEGIN:DAYLIGHT
TZOFFSETFROM:-0500
TZOFFSETTO:-0400
TZNAME:EDT
DTSTART:20250309T070000
END:DAYLIGHT
BEGIN:STANDARD
TZOFFSETFROM:-0400
TZOFFSETTO:-0500
TZNAME:EST
DTSTART:20251102T060000
END:STANDARD
BEGIN:DAYLIGHT
TZOFFSETFROM:-0500
TZOFFSETTO:-0400
TZNAME:EDT
DTSTART:20260308T070000
END:DAYLIGHT
BEGIN:STANDARD
TZOFFSETFROM:-0400
TZOFFSETTO:-0500
TZNAME:EST
DTSTART:20261101T060000
END:STANDARD
BEGIN:DAYLIGHT
TZOFFSETFROM:-0500
TZOFFSETTO:-0400
TZNAME:EDT
DTSTART:20270314T070000
END:DAYLIGHT
BEGIN:STANDARD
TZOFFSETFROM:-0400
TZOFFSETTO:-0500
TZNAME:EST
DTSTART:20271107T060000
END:STANDARD
END:VTIMEZONE
BEGIN:VEVENT
DTSTART;TZID=America/New_York:20260225T100000
DTEND;TZID=America/New_York:20260225T140000
DTSTAMP:20260421T084437
CREATED:20251121T212051Z
LAST-MODIFIED:20251121T212051Z
UID:41395-1772013600-1772028000@fivepointsarts.org
SUMMARY:Tiles\, Small Bowls & Surface Techniques
DESCRIPTION:Instructor: Kathy Cady\nWednesdays\, January 21\, 28\, February 4\, 11\, 18 & 25\, 2026\n10:00 AM – 2:00 PM\nMembers: $378 / Non-Members: $420\n  \nThis ceramics workshop will guide participants through the process-based creation of ceramic tiles and small bowls\, focusing on an extensive range of surface techniques: sgraffito\, slip trailing\, wax resist\, pouring\, dipping\, spraying\, and multiple glazing methods. \nMORE INFO & REGISTER
URL:https://fivepointsarts.org/event/tiles-small-bowls-surface-techniques/2026-02-25/
LOCATION:Five Points Arts Center\, 855 University Drive\, Torrington\, CT\, 06790\, United States
CATEGORIES:Workshops
ATTACH;FMTTYPE=image/jpeg:https://fivepointsarts.org/wp-content/uploads/2025/11/K-Cady-Tiles-Small-Bowls-Surface-Techniques.jpeg
END:VEVENT
BEGIN:VEVENT
DTSTART;TZID=America/New_York:20260218T100000
DTEND;TZID=America/New_York:20260218T140000
DTSTAMP:20260421T084437
CREATED:20251121T212051Z
LAST-MODIFIED:20251121T212051Z
UID:41394-1771408800-1771423200@fivepointsarts.org
SUMMARY:Tiles\, Small Bowls & Surface Techniques
DESCRIPTION:Instructor: Kathy Cady\nWednesdays\, January 21\, 28\, February 4\, 11\, 18 & 25\, 2026\n10:00 AM – 2:00 PM\nMembers: $378 / Non-Members: $420\n  \nThis ceramics workshop will guide participants through the process-based creation of ceramic tiles and small bowls\, focusing on an extensive range of surface techniques: sgraffito\, slip trailing\, wax resist\, pouring\, dipping\, spraying\, and multiple glazing methods. \nMORE INFO & REGISTER
URL:https://fivepointsarts.org/event/tiles-small-bowls-surface-techniques/2026-02-18/
LOCATION:Five Points Arts Center\, 855 University Drive\, Torrington\, CT\, 06790\, United States
CATEGORIES:Workshops
ATTACH;FMTTYPE=image/jpeg:https://fivepointsarts.org/wp-content/uploads/2025/11/K-Cady-Tiles-Small-Bowls-Surface-Techniques.jpeg
END:VEVENT
BEGIN:VEVENT
DTSTART;TZID=America/New_York:20260211T100000
DTEND;TZID=America/New_York:20260211T140000
DTSTAMP:20260421T084437
CREATED:20251121T212051Z
LAST-MODIFIED:20251121T212051Z
UID:41393-1770804000-1770818400@fivepointsarts.org
SUMMARY:Tiles\, Small Bowls & Surface Techniques
DESCRIPTION:Instructor: Kathy Cady\nWednesdays\, January 21\, 28\, February 4\, 11\, 18 & 25\, 2026\n10:00 AM – 2:00 PM\nMembers: $378 / Non-Members: $420\n  \nThis ceramics workshop will guide participants through the process-based creation of ceramic tiles and small bowls\, focusing on an extensive range of surface techniques: sgraffito\, slip trailing\, wax resist\, pouring\, dipping\, spraying\, and multiple glazing methods. \nMORE INFO & REGISTER
URL:https://fivepointsarts.org/event/tiles-small-bowls-surface-techniques/2026-02-11/
LOCATION:Five Points Arts Center\, 855 University Drive\, Torrington\, CT\, 06790\, United States
CATEGORIES:Workshops
ATTACH;FMTTYPE=image/jpeg:https://fivepointsarts.org/wp-content/uploads/2025/11/K-Cady-Tiles-Small-Bowls-Surface-Techniques.jpeg
END:VEVENT
BEGIN:VEVENT
DTSTART;TZID=America/New_York:20260204T100000
DTEND;TZID=America/New_York:20260204T140000
DTSTAMP:20260421T084437
CREATED:20251121T212051Z
LAST-MODIFIED:20251121T212051Z
UID:41392-1770199200-1770213600@fivepointsarts.org
SUMMARY:Tiles\, Small Bowls & Surface Techniques
DESCRIPTION:Instructor: Kathy Cady\nWednesdays\, January 21\, 28\, February 4\, 11\, 18 & 25\, 2026\n10:00 AM – 2:00 PM\nMembers: $378 / Non-Members: $420\n  \nThis ceramics workshop will guide participants through the process-based creation of ceramic tiles and small bowls\, focusing on an extensive range of surface techniques: sgraffito\, slip trailing\, wax resist\, pouring\, dipping\, spraying\, and multiple glazing methods. \nMORE INFO & REGISTER
URL:https://fivepointsarts.org/event/tiles-small-bowls-surface-techniques/2026-02-04/
LOCATION:Five Points Arts Center\, 855 University Drive\, Torrington\, CT\, 06790\, United States
CATEGORIES:Workshops
ATTACH;FMTTYPE=image/jpeg:https://fivepointsarts.org/wp-content/uploads/2025/11/K-Cady-Tiles-Small-Bowls-Surface-Techniques.jpeg
END:VEVENT
BEGIN:VEVENT
DTSTART;TZID=America/New_York:20260128T100000
DTEND;TZID=America/New_York:20260128T140000
DTSTAMP:20260421T084437
CREATED:20251121T212051Z
LAST-MODIFIED:20251121T212051Z
UID:41391-1769594400-1769608800@fivepointsarts.org
SUMMARY:Tiles\, Small Bowls & Surface Techniques
DESCRIPTION:Instructor: Kathy Cady\nWednesdays\, January 21\, 28\, February 4\, 11\, 18 & 25\, 2026\n10:00 AM – 2:00 PM\nMembers: $378 / Non-Members: $420\n  \nThis ceramics workshop will guide participants through the process-based creation of ceramic tiles and small bowls\, focusing on an extensive range of surface techniques: sgraffito\, slip trailing\, wax resist\, pouring\, dipping\, spraying\, and multiple glazing methods. \nMORE INFO & REGISTER
URL:https://fivepointsarts.org/event/tiles-small-bowls-surface-techniques/2026-01-28/
LOCATION:Five Points Arts Center\, 855 University Drive\, Torrington\, CT\, 06790\, United States
CATEGORIES:Workshops
ATTACH;FMTTYPE=image/jpeg:https://fivepointsarts.org/wp-content/uploads/2025/11/K-Cady-Tiles-Small-Bowls-Surface-Techniques.jpeg
END:VEVENT
BEGIN:VEVENT
DTSTART;TZID=America/New_York:20260121T100000
DTEND;TZID=America/New_York:20260121T140000
DTSTAMP:20260421T084437
CREATED:20251121T212051Z
LAST-MODIFIED:20251121T212051Z
UID:41389-1768989600-1769004000@fivepointsarts.org
SUMMARY:Tiles\, Small Bowls & Surface Techniques
DESCRIPTION:Instructor: Kathy Cady\nWednesdays\, January 21\, 28\, February 4\, 11\, 18 & 25\, 2026\n10:00 AM – 2:00 PM\nMembers: $378 / Non-Members: $420\n  \nThis ceramics workshop will guide participants through the process-based creation of ceramic tiles and small bowls\, focusing on an extensive range of surface techniques: sgraffito\, slip trailing\, wax resist\, pouring\, dipping\, spraying\, and multiple glazing methods. \nMORE INFO & REGISTER
URL:https://fivepointsarts.org/event/tiles-small-bowls-surface-techniques/2026-01-21/
LOCATION:Five Points Arts Center\, 855 University Drive\, Torrington\, CT\, 06790\, United States
CATEGORIES:Workshops
ATTACH;FMTTYPE=image/jpeg:https://fivepointsarts.org/wp-content/uploads/2025/11/K-Cady-Tiles-Small-Bowls-Surface-Techniques.jpeg
END:VEVENT
END:VCALENDAR