BEGIN:VCALENDAR
VERSION:2.0
PRODID:-//Five Points Center For The Visual Arts - ECPv6.15.20//NONSGML v1.0//EN
CALSCALE:GREGORIAN
METHOD:PUBLISH
X-WR-CALNAME:Five Points Center For The Visual Arts
X-ORIGINAL-URL:https://fivepointsarts.org
X-WR-CALDESC:Events for Five Points Center For The Visual Arts
REFRESH-INTERVAL;VALUE=DURATION:PT1H
X-Robots-Tag:noindex
X-PUBLISHED-TTL:PT1H
BEGIN:VTIMEZONE
TZID:America/New_York
BEGIN:DAYLIGHT
TZOFFSETFROM:-0500
TZOFFSETTO:-0400
TZNAME:EDT
DTSTART:20240310T070000
END:DAYLIGHT
BEGIN:STANDARD
TZOFFSETFROM:-0400
TZOFFSETTO:-0500
TZNAME:EST
DTSTART:20241103T060000
END:STANDARD
BEGIN:DAYLIGHT
TZOFFSETFROM:-0500
TZOFFSETTO:-0400
TZNAME:EDT
DTSTART:20250309T070000
END:DAYLIGHT
BEGIN:STANDARD
TZOFFSETFROM:-0400
TZOFFSETTO:-0500
TZNAME:EST
DTSTART:20251102T060000
END:STANDARD
BEGIN:DAYLIGHT
TZOFFSETFROM:-0500
TZOFFSETTO:-0400
TZNAME:EDT
DTSTART:20260308T070000
END:DAYLIGHT
BEGIN:STANDARD
TZOFFSETFROM:-0400
TZOFFSETTO:-0500
TZNAME:EST
DTSTART:20261101T060000
END:STANDARD
END:VTIMEZONE
BEGIN:VEVENT
DTSTART;TZID=America/New_York:20250513T180000
DTEND;TZID=America/New_York:20250513T210000
DTSTAMP:20260421T084353
CREATED:20241218T151059Z
LAST-MODIFIED:20241218T151059Z
UID:32685-1747159200-1747170000@fivepointsarts.org
SUMMARY:Wheel Throwing
DESCRIPTION:Instructor: Jill Van Slooten \nDates: Tuesdays\, April 8\, 15\, 22 & 29\, May 6\, 13\, 20 & 27\, 2025 \nTime: 6 – 9 PM \nAges: 14+ \nMembers: $360 \nNon-Members: $400 \n\nThis evening workshop will focus on the fundamentals of wheel throwing. Develop skills in centering\, trimming\, and glaze application. Whether you are a new or returning potter\, this workshop is designed to address all levels of experience in a fun\, supportive community. \nMORE INFO & REGISTER
URL:https://fivepointsarts.org/event/wheel-throwing/2025-05-13/
LOCATION:Five Points Arts Center\, 855 University Drive\, Torrington\, CT\, 06790\, United States
CATEGORIES:Workshops
ATTACH;FMTTYPE=image/jpeg:https://fivepointsarts.org/wp-content/uploads/2024/12/J-Van-Slooten-Wheel-Throwing.jpeg
END:VEVENT
END:VCALENDAR