BEGIN:VCALENDAR
VERSION:2.0
PRODID:-//Five Points Center For The Visual Arts - ECPv6.15.20//NONSGML v1.0//EN
CALSCALE:GREGORIAN
METHOD:PUBLISH
X-WR-CALNAME:Five Points Center For The Visual Arts
X-ORIGINAL-URL:https://fivepointsarts.org
X-WR-CALDESC:Events for Five Points Center For The Visual Arts
REFRESH-INTERVAL;VALUE=DURATION:PT1H
X-Robots-Tag:noindex
X-PUBLISHED-TTL:PT1H
BEGIN:VTIMEZONE
TZID:America/New_York
BEGIN:DAYLIGHT
TZOFFSETFROM:-0500
TZOFFSETTO:-0400
TZNAME:EDT
DTSTART:20200308T070000
END:DAYLIGHT
BEGIN:STANDARD
TZOFFSETFROM:-0400
TZOFFSETTO:-0500
TZNAME:EST
DTSTART:20201101T060000
END:STANDARD
BEGIN:DAYLIGHT
TZOFFSETFROM:-0500
TZOFFSETTO:-0400
TZNAME:EDT
DTSTART:20210314T070000
END:DAYLIGHT
BEGIN:STANDARD
TZOFFSETFROM:-0400
TZOFFSETTO:-0500
TZNAME:EST
DTSTART:20211107T060000
END:STANDARD
BEGIN:DAYLIGHT
TZOFFSETFROM:-0500
TZOFFSETTO:-0400
TZNAME:EDT
DTSTART:20220313T070000
END:DAYLIGHT
BEGIN:STANDARD
TZOFFSETFROM:-0400
TZOFFSETTO:-0500
TZNAME:EST
DTSTART:20221106T060000
END:STANDARD
END:VTIMEZONE
BEGIN:VEVENT
DTSTART;TZID=America/New_York:20210527T180000
DTEND;TZID=America/New_York:20210527T200000
DTSTAMP:20260423T061342
CREATED:20210331T152600Z
LAST-MODIFIED:20210331T154151Z
UID:10987-1622138400-1622145600@fivepointsarts.org
SUMMARY:Northwestern Connecticut Community College 2021 Commencement
DESCRIPTION:Commencement 2021: Northwestern’s 55th Commencement will be a drive-through event.\nAll students must apply to graduate by March 31\, 2021 (whether attending a ceremony or not). Please fill out the online graduation application. \nWhen: Thursday\, May 27\, 6 p.m. \nWhere:  Five Points Center for the Visual Arts\, 855 University Drive\, Torrington\, CT \nIf you have applied to graduate: \nCHECK YOUR STUDENT EMAIL FREQUENTLY FOR DETAILS \n\nOnly one car will be allowed per graduate and graduates MUST RSVP to attend commencement.\nGraduates will be required to order their cap and gown to be shipped to their home. (No cost to the student.)\nSafety protocols will be strictly followed.\n\nVisit the official NCCC website for more information: https://www.nwcc.edu/2021-graduation-information/
URL:https://fivepointsarts.org/event/northwestern-connecticut-community-college-2021-commencement/
LOCATION:Five Points Arts Center\, 855 University Drive\, Torrington\, CT\, 06790\, United States
CATEGORIES:Rental
ATTACH;FMTTYPE=image/png:https://fivepointsarts.org/wp-content/uploads/2021/03/Screen-Shot-2021-03-31-at-11.12.32-AM.png
END:VEVENT
BEGIN:VEVENT
DTSTART;TZID=America/New_York:20210507T180000
DTEND;TZID=America/New_York:20210507T200000
DTSTAMP:20260423T061342
CREATED:20210413T201306Z
LAST-MODIFIED:20210427T150812Z
UID:11616-1620410400-1620417600@fivepointsarts.org
SUMMARY:Virtual Artist Talk
DESCRIPTION:Will Holub | Erin Koch Smith | John Gintoff | Eleanor Sabin | Max Seinfeld | Kevin Van Aelst \nJoin Five Points Gallery for a Virtual Artist Talk\, on Friday\, May 07 at 6:00PM EST. The talk will feature each of the 6 artists currently exhibiting in the gallery. Viewers can expect to learn more about the artists’ techniques\, process and studio practice. \nModerated by Melanie Carr \nMelanie Carr is a Connecticut based artist who received her MFA from the College of Art and Design at Lesley University in 2011. Her national exhibits include Gibney Dance in NYC\, The Delaware Center for the Contemporary Arts in Wilmington\, the Westport Art Center\, CT\, Soapbox Gallery\, NY\, Boston Public Library and has work in collections such as The New Britain Museum of American Art\, CT among others.\nhttp://www.melaniecarr.com \nThis event is Free and open to the public. \nClick the Link to register: https://us02web.zoom.us/webinar/register/WN_BtsfYtgmSbKS2dLybdRt6A \n\n\n 
URL:https://fivepointsarts.org/event/virtual-artist-talk/
LOCATION:Virtual Event
CATEGORIES:Artist Talk
ATTACH;FMTTYPE=image/jpeg:https://fivepointsarts.org/wp-content/uploads/2021/04/Five-Points-Gallery_April_May-2021.jpg
END:VEVENT
BEGIN:VEVENT
DTSTART;TZID=America/New_York:20210416T130000
DTEND;TZID=America/New_York:20210522T170000
DTSTAMP:20260423T061342
CREATED:20210413T174544Z
LAST-MODIFIED:20210413T192833Z
UID:11610-1618578000-1621702800@fivepointsarts.org
SUMMARY:It's All About Process
DESCRIPTION:West Gallery \nJohn Gintoff | Eleanor Sabin | Max Seinfeld | Kevin Van Aelst \n\n\n\n\nThe group exhibition\, It’s All About Process\, features work by artists John Gintoff\, Eleanor Sabin\, Max Seinfeld & Kevin Van Aelst. Although their concepts and visions are different\, each of the artists in this exhibition present a unique approach to process and alternative use of media and compositional elements. Photography is often a straightforward and traditional way to capture how we experience moments; however\, John Gintoff challenges how the viewer perceives traditional photography by using photographic prints to create three-dimensional sculptural forms. Kevin Van Aelst also plays with a reimagining of traditional photography. His layered digital process deals with the malleability of our notions of truth and memory. Van Aelst states\, “The work aims to examine the relationship between photography\, reality and memory and is a contemplation of memory itself”. Eleanor Sabin’s work explores the conflicts between the man-made and natural world. Her process of creating layered detailed pen and ink drawings of the natural world are then disrupted by saturated airbrushed color\, bold geometric patterns and lines creating new tensions of space. Max Seinfeld’s sculptures also play with tensions through contrasting materials\, color and form. His small sculptures’ interplay of solid vs. seemingly liquid forms allows for a sensation of a lingering touch or inching grip. The interaction of natural and artificial colors in Seinfeld work are drawn from observations in contemporary media\, such as the allure of a red Cadillac versus the natural colors of the raw materials. \n  \n\n\n\n\n 
URL:https://fivepointsarts.org/event/its-all-about-process/
LOCATION:Five Points Gallery\, 33 Main Street\, Torrington\, CT\, 06790\, United States
CATEGORIES:Exhibition,Exhibition Opening
ATTACH;FMTTYPE=image/jpeg:https://fivepointsarts.org/wp-content/uploads/2021/04/80BEA676-12B7-4AC2-95F7-7E8317F21E61.jpg
END:VEVENT
BEGIN:VEVENT
DTSTART;TZID=America/New_York:20210416T130000
DTEND;TZID=America/New_York:20210522T170000
DTSTAMP:20260423T061342
CREATED:20210413T174101Z
LAST-MODIFIED:20210413T174719Z
UID:11607-1618578000-1621702800@fivepointsarts.org
SUMMARY:Two Stories | Erin Koch Smith
DESCRIPTION:East Gallery \nErin Koch Smith’s exhibition\, Two Stories\, draws from two bodies of work that utilize imaginative narratives and stories to build a language for experience that cannot be expressed in a different way. One narrative features the imaginary heroics of a lamp trapped inside a psychological landscape built out of memories\, which is based on Philip Guston’s 1974 painting\, “Lamp”. The wildly whimsical paintings create new logics and narratives using the physicality of the paint as part of the storytelling process. Smith states she is\, “interested in the ways words can fail\, and how painting and drawing can fill the gap.” In her other works on exhibit\, Smith searches for form within her compositions using memories and representations of her childhood emphasizing personal wants and desires. The paintings can also be seen to reflect fears of growing older\, the cloudiness of middle life and the pressures of creating a home.
URL:https://fivepointsarts.org/event/two-stories-erin-koch-smith/
LOCATION:Five Points Gallery\, 33 Main Street\, Torrington\, CT\, 06790\, United States
CATEGORIES:Exhibition,Exhibition Opening
ATTACH;FMTTYPE=image/png:https://fivepointsarts.org/wp-content/uploads/2021/04/Mountain-2020-Oil-on-Canvas-46-x-68-1.png
END:VEVENT
BEGIN:VEVENT
DTSTART;TZID=America/New_York:20210416T130000
DTEND;TZID=America/New_York:20210522T170000
DTSTAMP:20260423T061342
CREATED:20210413T173447Z
LAST-MODIFIED:20210427T150456Z
UID:11599-1618578000-1621702800@fivepointsarts.org
SUMMARY:It's Today | Will Holub
DESCRIPTION:TDP Gallery \n\n\n\n\nWill Holub’s exhibition\, It’s Today\, explores issues of chance and recognition with textural abstract paintings that have fragmented photographic imagery randomly arrayed across their surfaces. Made using a variety of approaches\, and with materials such as card stock\, C- prints and transfer images\, they address not only the consequences of image fracturing\, but also provide encouraging evidence of the strengthening aspects of reconstruction. \nAfter three decades of experimentation with the tactile properties of paper as a low-relief material on the surfaces of his paintings\, Holub continues to investigate how and why haptic art first establishes a “felt\,” rather than a simply “seen\,” connection with viewers. \nWill Holub was the winner of the 2020 Five Points Small Works exhibition juried by Power Boothe. \n\n\n\n\n  \n 
URL:https://fivepointsarts.org/event/its-toady/
LOCATION:Five Points Gallery\, 33 Main Street\, Torrington\, CT\, 06790\, United States
CATEGORIES:Exhibition,Exhibition Opening
ATTACH;FMTTYPE=image/jpeg:https://fivepointsarts.org/wp-content/uploads/2021/04/4a_Holub_Will_Single-Guy-detail.jpeg
END:VEVENT
BEGIN:VEVENT
DTSTART;TZID=America/New_York:20210326T180000
DTEND;TZID=America/New_York:20210326T200000
DTSTAMP:20260423T061342
CREATED:20210221T235502Z
LAST-MODIFIED:20210320T035658Z
UID:8227-1616781600-1616788800@fivepointsarts.org
SUMMARY:Virtual Artist Talk
DESCRIPTION:Artists’ panel discussion with Talya Baharal\, Brigid Kennedy and Erika Gabriela Santos. Moderated by Jessica Fallis. \nLearn more about these exhibitions:
URL:https://fivepointsarts.org/event/artist-talk/
LOCATION:Virtual Event
CATEGORIES:Artist Talk
ATTACH;FMTTYPE=image/png:https://fivepointsarts.org/wp-content/uploads/2021/02/Screen-Shot-2021-03-15-at-11.08.58-PM.png
END:VEVENT
BEGIN:VEVENT
DTSTART;TZID=America/New_York:20210305T080000
DTEND;TZID=America/New_York:20210410T170000
DTSTAMP:20260423T061342
CREATED:20210331T154021Z
LAST-MODIFIED:20210331T154021Z
UID:10996-1614931200-1618074000@fivepointsarts.org
SUMMARY:Dade
DESCRIPTION:Artwork by Erika Santos. Click here to read more about this exhibition. \nGallery Open:\nTuesday\, Thursday 1-4pm\nFriday\, Saturday and Sunday 1-5pm\n& by appointment​
URL:https://fivepointsarts.org/event/dade/
LOCATION:Five Points Gallery\, 33 Main Street\, Torrington\, CT\, 06790\, United States
CATEGORIES:Exhibition
ATTACH;FMTTYPE=image/jpeg:https://fivepointsarts.org/wp-content/uploads/2021/03/DADE2-1024x683-2.jpg
END:VEVENT
BEGIN:VEVENT
DTSTART;TZID=America/New_York:20210305T080000
DTEND;TZID=America/New_York:20210410T170000
DTSTAMP:20260423T061342
CREATED:20210307T221715Z
LAST-MODIFIED:20210307T221715Z
UID:9945-1614931200-1618074000@fivepointsarts.org
SUMMARY:When Mercy Seasons Justice
DESCRIPTION:Artwork by Brigid Kennedy. Click here to read more about this exhibition. \nGallery Open:\nTuesday\, Thursday 1-4pm\nFriday\, Saturday and Sunday 1-5pm\n& by appointment​
URL:https://fivepointsarts.org/event/when-mercy-seasons-justice/
LOCATION:Five Points Gallery\, 33 Main Street\, Torrington\, CT\, 06790\, United States
CATEGORIES:Exhibition
ATTACH;FMTTYPE=image/png:https://fivepointsarts.org/wp-content/uploads/2021/03/screen-shot-2021-03-02-at-11-41-34-am.png
END:VEVENT
BEGIN:VEVENT
DTSTART;VALUE=DATE:20210305
DTEND;VALUE=DATE:20210411
DTSTAMP:20260423T061342
CREATED:20210221T235319Z
LAST-MODIFIED:20210307T220923Z
UID:8225-1614902400-1618099199@fivepointsarts.org
SUMMARY:Raw Ink - Blue Paint
DESCRIPTION:Artwork by Talya Baharal. Click here to read more about this exhibition. \nGallery Open:\nTuesday\, Thursday 1-4pm\nFriday\, Saturday and Sunday 1-5pm\n& by appointment​
URL:https://fivepointsarts.org/event/raw-ink-blue-paint/
LOCATION:Five Points Gallery\, 33 Main Street\, Torrington\, CT\, 06790\, United States
CATEGORIES:Exhibition
ATTACH;FMTTYPE=image/jpeg:https://fivepointsarts.org/wp-content/uploads/2021/03/blue-bridge-64-22-x-40-22_orig.jpg
END:VEVENT
BEGIN:VEVENT
DTSTART;TZID=America/New_York:20210302T080000
DTEND;TZID=America/New_York:20210410T170000
DTSTAMP:20260423T061342
CREATED:20210307T220716Z
LAST-MODIFIED:20210307T220716Z
UID:9940-1614672000-1618074000@fivepointsarts.org
SUMMARY:Rent The Annex - Photograph Artwork
DESCRIPTION:Keep your website updated with beautiful photos of your portfolio. From March 2 through April 10\, 2021 you can schedule a time to shoot your portfolio by yourself or with a professional photographer. \nPrices: \n$50 – Rent the Annex for two days to photograph \n$125 – Rent the Annex for two days with a professional photographer \nClick here to see available slots \nAny questions? E-mail here.
URL:https://fivepointsarts.org/event/rent-the-annex-photograph-artwork/
LOCATION:Five Points Annex Gallery\, 15 Water Street\, Torrington\, CT\, 06790\, United States
ATTACH;FMTTYPE=image/png:https://fivepointsarts.org/wp-content/uploads/2021/03/getty-1205840535.png
END:VEVENT
END:VCALENDAR